BEGIN:VCALENDAR
VERSION:2.0
PRODID:-//Bitcoin Sherpa//ADDLY//EN
CALSCALE:GREGORIAN
METHOD:PUBLISH
BEGIN:VEVENT
UID:R5zxZMpC-1776601964579@events.bitcoinsherpa.io
DTSTART;TZID=America/Toronto:20260423T190000
DTEND;TZID=America/Toronto:20260423T210000
SUMMARY:Simcoe County Bitcoin Meetup
DESCRIPTION:Whether you don't know what Bitcoin is\, are a seasoned HODLer or just bitcoin-curious\, join us for an evening of learning and connection. Dive into the latest Bitcoin insights\, share ideas\, and discuss the future of decentralized finance in a relaxed\, friendly atmosphere. This is your chance to network with like-minded individuals\, ask questions\, and grow your Bitcoin knowledge.\n\nLet’s build the Simcoe County Bitcoin community together!\n\n\nSimcoe County Bitcoin Meetup\n\nWhat to Expect: A super casual\, friendly atmosphere. We'll skip the jargon\, leave the complex charts at home\, and focus entirely on answering your questions\, whatever they may be. Come curious\, leave confident\, and connect with other locals from the Simcoe County community at Cocina Mexicana.\n\nTopics (This is a 100% open Q&A! We'll cover whatever is on your mind):\n\nWhat is Bitcoin\, in simple terms?\n\nWhy should I even care about it?\n\nIs it safe? How do I not get scammed?\n\nWhat does "be your own bank" or "self-custody" mean?\n\nAm I "too late" to buy it?\n\nHow is it different from "crypto"?\n\n...and literally anything else you can think of!\n\nThis Meetup is Perfect For:\n\nAnyone who feels confused or overwhelmed by the world of Bitcoin.\n\nPeople who have "dumb questions" and want straight\, simple answers.\n\nNewcomers curious about Bitcoin's basics and real-world implications.\n\nLocals wanting a friendly\, no-pressure environment to learn and connect.\n\nStop feeling confused. Come curious\, leave confident!\n\nSpace is limited so we can keep the conversation flowing and make sure everyone gets a chance to talk. Please RSVP below to save your spot!\n\nhttps://simcoecountybitcoin.ca/join
LOCATION:Cocina Mexicana\, 5 Mulcaster St\, Barrie\, ON
RRULE:FREQ=MONTHLY;BYDAY=3TH
END:VEVENT
END:VCALENDAR